BEGIN:VCALENDAR
VERSION:2.0
PRODID:-//Fram - ECPv6.5.0.1//NONSGML v1.0//EN
CALSCALE:GREGORIAN
METHOD:PUBLISH
X-WR-CALNAME:Fram
X-ORIGINAL-URL:https://fram.is
X-WR-CALDESC:Events for Fram
REFRESH-INTERVAL;VALUE=DURATION:PT1H
X-Robots-Tag:noindex
X-PUBLISHED-TTL:PT1H
BEGIN:VTIMEZONE
TZID:UTC
BEGIN:STANDARD
TZOFFSETFROM:+0000
TZOFFSETTO:+0000
TZNAME:UTC
DTSTART:20260101T000000
END:STANDARD
END:VTIMEZONE
BEGIN:VEVENT
DTSTART;TZID=UTC:20260422T193000
DTEND;TZID=UTC:20260423T220000
DTSTAMP:20260423T020435
CREATED:20250208T122312Z
LAST-MODIFIED:20260422T222730Z
UID:42779-1776886200-1776981600@fram.is
SUMMARY:Valur 31 - 27 FRAM Olís deild kvenna.
DESCRIPTION:Valur – FRAM Olís deild kvenna kl. 19:30 Undanúrslit leikur 3. \nHlíðaendi miðvikudag 22. apríl kl. 19:30.
URL:https://fram.is/event/ka-fram-olis-deild-karla-kl-1900/
LOCATION:Hlíðarendi\, Iceland
CATEGORIES:Handbolti
END:VEVENT
BEGIN:VEVENT
DTSTART;TZID=UTC:20260423T170000
DTEND;TZID=UTC:20260423T230000
DTSTAMP:20260423T020435
CREATED:20201007T113723Z
LAST-MODIFIED:20260415T102810Z
UID:24027-1776963600-1776985200@fram.is
SUMMARY:Þór - FRAM Besta deild karla kl. 17:00
DESCRIPTION:Þór – FRAM Besta deild karla \nÞórsvöllur fimmtudag 23. apríl kl. 17:00
URL:https://fram.is/event/fram-keflavik/
LOCATION:Þórsvöllur\, Þórsvöllur\, Iceland
CATEGORIES:Fótbolti
END:VEVENT
END:VCALENDAR