BEGIN:VCALENDAR
VERSION:2.0
PRODID:-//Fram - ECPv6.5.0.1//NONSGML v1.0//EN
CALSCALE:GREGORIAN
METHOD:PUBLISH
X-ORIGINAL-URL:https://fram.is/is
X-WR-CALDESC:Events for Fram
REFRESH-INTERVAL;VALUE=DURATION:PT1H
X-Robots-Tag:noindex
X-PUBLISHED-TTL:PT1H
BEGIN:VTIMEZONE
TZID:UTC
BEGIN:STANDARD
TZOFFSETFROM:+0000
TZOFFSETTO:+0000
TZNAME:UTC
DTSTART:20260101T000000
END:STANDARD
END:VTIMEZONE
BEGIN:VEVENT
DTSTART;TZID=UTC:20260425T153000
DTEND;TZID=UTC:20260425T180000
DTSTAMP:20260420T114021
CREATED:20260417T204934Z
LAST-MODIFIED:20260417T204934Z
UID:47674-1777131000-1777140000@fram.is
SUMMARY:FRAM - Valur Olís deild kvenna kl. 15:30. Undanúrslit leikur 4.
DESCRIPTION:FRAM – Valur Olís deild kvenna\, undanúrslit leikur 4. \nLambhagahöllin laugardag 25. apríl kl. 15:30.
URL:https://fram.is/is/event/fram-valur-olis-deild-kvenna-kl-1530-undanurslit-leikur-4/
LOCATION:Lambhagahöllin\, úlfarsbraut 126
CATEGORIES:Handbolti
END:VEVENT
BEGIN:VEVENT
DTSTART;TZID=UTC:20260427T180000
DTEND;TZID=UTC:20260427T220000
DTSTAMP:20260420T114021
CREATED:20211013T161526Z
LAST-MODIFIED:20260420T100402Z
UID:24028-1777312800-1777327200@fram.is
SUMMARY:FRAM - ÍBV Besta deild karla kl. 18:00
DESCRIPTION:FRAM – ÍBV Besta deild karla \nLambhagavöllur mánudag 27. apríl kl. 18:00. \n 
URL:https://fram.is/is/event/fram-ka-thor-olisdeild-kvenna-kl-1600/
LOCATION:Lambhagavöllur
CATEGORIES:Fótbolti
END:VEVENT
BEGIN:VEVENT
DTSTART;TZID=UTC:20260429T180000
DTEND;TZID=UTC:20260429T220000
DTSTAMP:20260420T114021
CREATED:20201022T151400Z
LAST-MODIFIED:20260420T100651Z
UID:24150-1777485600-1777500000@fram.is
SUMMARY:Breiðablik - FRAM Besta deild kvenna kl. 19:15.
DESCRIPTION:Breiðablik – FRAM Besta deild kvenna. \nKópavogsvöllur miðvikudag 29. apríl kl. 19:15.
URL:https://fram.is/is/event/ibv-fram/
LOCATION:Kópavogsvöllur\, Iceland
CATEGORIES:Fótbolti
END:VEVENT
END:VCALENDAR